BEGIN:VCALENDAR
VERSION:2.0
PRODID:SchoolNow
CALSCALE:GREGORIAN
BEGIN:VEVENT
UID:a16a53c4-f9dc-11ef-9753-02cf11fa3775
DTSTAMP:20250305T161226Z
SUMMARY:Allied Health Professionalism Seminar: LDCC Monroe
URL;VALUE=URI:https://www.ladelta.edu/campuses/monroe/calendar/7609111/alli
 ed-health-professionalism-seminar-ldcc-monroe
DTSTART:20250314T150000Z
DTEND:20250314T160000Z
END:VEVENT
END:VCALENDAR
