BEGIN:VCALENDAR
VERSION:2.0
PRODID:SchoolNow
CALSCALE:GREGORIAN
BEGIN:VEVENT
UID:cdc66454-f9e0-11ef-b4c7-0a58a9feac02
DTSTAMP:20250305T164219Z
SUMMARY:LDCC MLT Program Virtual Open House
URL;VALUE=URI:https://www.ladelta.edu/campuses/monroe/calendar/7609118/ldcc
 -mlt-program-virtual-open-house
DTSTART:20250313T223000Z
DTEND:20250313T233000Z
END:VEVENT
END:VCALENDAR
