BEGIN:VCALENDAR
VERSION:2.0
PRODID:SchoolNow
CALSCALE:GREGORIAN
BEGIN:VEVENT
UID:abc074b4-f9f2-11ef-a275-0affd2024cd1
DTSTAMP:20250305T185013Z
SUMMARY:Delta Christian Fellowship Interest Meeting: LDCC Monroe
URL;VALUE=URI:https://www.ladelta.edu/campuses/monroe/calendar/7609202/delt
 a-christian-fellowship-interest-meeting-ldcc-monroe
DTSTART:20250312T190000Z
DTEND:20250312T200000Z
END:VEVENT
END:VCALENDAR
