BEGIN:VCALENDAR
VERSION:2.0
PRODID:SchoolNow
CALSCALE:GREGORIAN
BEGIN:VEVENT
UID:dd228644-1097-11f0-b823-0a58a9feac02
DTSTAMP:20250403T142808Z
SUMMARY:National Library Week: LDCC Monroe Festivities
URL;VALUE=URI:https://www.ladelta.edu/campuses/monroe/calendar/7841435/nati
 onal-library-week-ldcc-monroe-festivities
DTSTART:20250407T130000Z
DTEND:20250410T213000Z
END:VEVENT
END:VCALENDAR
