BEGIN:VCALENDAR
VERSION:2.0
PRODID:SchoolNow
CALSCALE:GREGORIAN
BEGIN:VEVENT
UID:95cb1696-109a-11f0-a109-029666b0c293
DTSTAMP:20250403T144737Z
SUMMARY:Hi-Tech Humanities: LDCC Monroe
URL;VALUE=URI:https://www.ladelta.edu/campuses/monroe/calendar/7841441/hi-t
 ech-humanities-ldcc-monroe
DTSTART:20250407T170000Z
DTEND:20250407T180000Z
END:VEVENT
END:VCALENDAR
