BEGIN:VCALENDAR
VERSION:2.0
PRODID:SchoolNow
CALSCALE:GREGORIAN
BEGIN:VEVENT
UID:616bcc0e-10b0-11f0-8574-0a58a9feac02
DTSTAMP:20250403T174427Z
SUMMARY:Spring Knightsfest: LDCC Monroe
URL;VALUE=URI:https://www.ladelta.edu/campuses/monroe/calendar/7841577/spri
 ng-knightsfest-ldcc-monroe
DTSTART:20250415T130000Z
DTEND:20250417T213000Z
END:VEVENT
END:VCALENDAR
