BEGIN:VCALENDAR
VERSION:2.0
PRODID:SchoolNow
CALSCALE:GREGORIAN
BEGIN:VEVENT
UID:11a879da-161c-11f0-bb50-0a58a9feac02
DTSTAMP:20250410T145705Z
SUMMARY:Denim Day Fashion Show: LDCC Monroe
URL;VALUE=URI:https://www.ladelta.edu/campuses/monroe/calendar/7895131/deni
 m-day-fashion-show-ldcc-monroe
DTSTART:20250415T150000Z
DTEND:20250415T160000Z
END:VEVENT
END:VCALENDAR
