BEGIN:VCALENDAR
VERSION:2.0
PRODID:SchoolNow
CALSCALE:GREGORIAN
BEGIN:VEVENT
UID:45ad77da-35b6-11f0-94fa-0a58a9feac02
DTSTAMP:20250520T201821Z
SUMMARY:Super Saturday at LDCC Monroe: June 28
URL;VALUE=URI:https://www.ladelta.edu/campuses/monroe/calendar/8170028/supe
 r-saturday-at-ldcc-monroe-june-28
DTSTART:20250628T140000Z
DTEND:20250628T170000Z
END:VEVENT
END:VCALENDAR
