BEGIN:VCALENDAR
VERSION:2.0
PRODID:SchoolNow
CALSCALE:GREGORIAN
BEGIN:VEVENT
UID:6c6e644c-35b6-11f0-a8bd-0afff3d6a779
DTSTAMP:20250520T201844Z
SUMMARY:Super Saturday at LDCC Monroe: July 19
URL;VALUE=URI:https://www.ladelta.edu/campuses/monroe/calendar/8170029/supe
 r-saturday-at-ldcc-monroe-june-28-clone
DTSTART:20250628T140000Z
DTEND:20250628T170000Z
END:VEVENT
END:VCALENDAR
