BEGIN:VCALENDAR
VERSION:2.0
PRODID:SchoolNow
CALSCALE:GREGORIAN
BEGIN:VEVENT
UID:899c8b3e-35b6-11f0-b8b8-0a58a9feac02
DTSTAMP:20250520T201916Z
SUMMARY:Super Saturday at LDCC Monroe: August 9
URL;VALUE=URI:https://www.ladelta.edu/campuses/monroe/calendar/8170030/supe
 r-saturday-at-ldcc-monroe-june-28-clone-clone
DTSTART:20250628T140000Z
DTEND:20250628T170000Z
END:VEVENT
END:VCALENDAR
