BEGIN:VCALENDAR
VERSION:2.0
PRODID:SchoolNow
CALSCALE:GREGORIAN
BEGIN:VEVENT
UID:95e21788-479f-11f0-9415-02de2f7b37e7
DTSTAMP:20250612T151158Z
SUMMARY:Juneteenth Celebration: LDCC Monroe
URL;VALUE=URI:https://www.ladelta.edu/campuses/monroe/calendar/8292458/june
 teenth-celebration-ldcc-monroe
DTSTART:20250619T160000Z
DTEND:20250619T180000Z
END:VEVENT
END:VCALENDAR
