BEGIN:VCALENDAR
VERSION:2.0
PRODID:SchoolNow
CALSCALE:GREGORIAN
BEGIN:VEVENT
UID:c9faff70-567d-11f0-bce8-0a58a9feac02
DTSTAMP:20250701T131750Z
SUMMARY:Independence Day Ice Cream Social
URL;VALUE=URI:https://www.ladelta.edu/campuses/monroe/calendar/8373623/inde
 pendence-day-ice-cream-social
DTSTART:20250703T160000Z
DTEND:20250703T180000Z
END:VEVENT
END:VCALENDAR
