BEGIN:VCALENDAR
VERSION:2.0
PRODID:SchoolNow
CALSCALE:GREGORIAN
BEGIN:VEVENT
UID:d54a02f6-bb20-11f0-9e1b-0a58a9feac02
DTSTAMP:20251106T145654Z
SUMMARY:Veteran's Day Program at LDCC Monroe
URL;VALUE=URI:https://www.ladelta.edu/campuses/monroe/calendar/8781265/vete
 rans-day-program-at-ldcc-monroe
DTSTART:20251111T180000Z
DTEND:20251111T190000Z
END:VEVENT
END:VCALENDAR
