BEGIN:VCALENDAR
VERSION:2.0
PRODID:SchoolNow
CALSCALE:GREGORIAN
BEGIN:VEVENT
UID:7fa5fc28-bfe0-11f0-a517-0a58a9feac02
DTSTAMP:20251112T155858Z
SUMMARY:The Coastal Social: SGA Winter Semi-Formal
URL;VALUE=URI:https://www.ladelta.edu/campuses/monroe/calendar/8791129/the-
 coastal-social-sga-winter-semi-formal
DTSTART:20251121T010000Z
DTEND:20251121T040000Z
END:VEVENT
END:VCALENDAR
