BEGIN:VCALENDAR
VERSION:2.0
PRODID:SchoolNow
CALSCALE:GREGORIAN
BEGIN:VEVENT
UID:72d277a8-e7f2-11f0-bfc2-0a58a9feac02
DTSTAMP:20260102T154814Z
SUMMARY:MLK Day of Service at LDCC Monroe
URL;VALUE=URI:https://www.ladelta.edu/campuses/monroe/calendar/8828351/mlk-
 day-of-service-at-ldcc-monroe
DTSTART:20260119T160000Z
DTEND:20260119T190000Z
END:VEVENT
END:VCALENDAR
