BEGIN:VCALENDAR
VERSION:2.0
PRODID:SchoolNow
CALSCALE:GREGORIAN
BEGIN:VEVENT
UID:7abfa94a-f6e3-11f0-b88d-0e2c1359cd95
DTSTAMP:20260121T160852Z
SUMMARY:LDCC Monroe Spring Mardi Gras Welcome Back Breakfast
URL;VALUE=URI:https://www.ladelta.edu/campuses/monroe/calendar/8838827/ldcc
 -monroe-spring-mardi-gras-welcome-back-breakfast
DTSTART:20260127T150000Z
DTEND:20260127T170000Z
END:VEVENT
END:VCALENDAR
