BEGIN:VCALENDAR
VERSION:2.0
PRODID:SchoolNow
CALSCALE:GREGORIAN
BEGIN:VEVENT
UID:88d980d2-f6e3-11f0-933d-0a58a9feac02
DTSTAMP:20260121T160916Z
SUMMARY:LDCC Monroe Spring Mardi Gras Welcome Back Lunch
URL;VALUE=URI:https://www.ladelta.edu/campuses/monroe/calendar/8838828/ldcc
 -monroe-spring-mardi-gras-welcome-back-breakfast-clone
DTSTART:20260128T173000Z
DTEND:20260128T190000Z
END:VEVENT
END:VCALENDAR
