BEGIN:VCALENDAR
VERSION:2.0
PRODID:SchoolNow
CALSCALE:GREGORIAN
BEGIN:VEVENT
UID:377d04b8-0834-11f1-bd30-0a58a9feac02
DTSTAMP:20260212T165938Z
SUMMARY:LDCC Monroe Black History Month Program
URL;VALUE=URI:https://www.ladelta.edu/campuses/monroe/calendar/8854346/ldcc
 -monroe-black-history-month-program
DTSTART:20260226T180000Z
DTEND:20260226T190000Z
END:VEVENT
END:VCALENDAR
