BEGIN:VCALENDAR
VERSION:2.0
PRODID:SchoolNow
CALSCALE:GREGORIAN
BEGIN:VEVENT
UID:69876812-17da-11f1-b5b5-0e8a3ca0f1b9
DTSTAMP:20260304T150049Z
SUMMARY:How to Leverage LinkedIn for Your Career: LDCC Monroe
URL;VALUE=URI:https://www.ladelta.edu/campuses/monroe/calendar/8890237/how-
 to-leverage-linkedin-for-your-career-ldcc-monroe
DTSTART:20260311T163000Z
DTEND:20260311T173000Z
END:VEVENT
END:VCALENDAR
