BEGIN:VCALENDAR
VERSION:2.0
PRODID:SchoolNow
CALSCALE:GREGORIAN
BEGIN:VEVENT
UID:ce1c4170-1970-11f1-8c00-0a58a9feac02
DTSTAMP:20260306T152611Z
SUMMARY:Fortnite Creative Maps Game Night: Knights Esports LDCC Monroe
URL;VALUE=URI:https://www.ladelta.edu/campuses/monroe/calendar/8896275/fort
 nite-creative-maps-game-night-knights-esports-ldcc-monroe
DTSTART:20260326T200000Z
DTEND:20260327T000000Z
END:VEVENT
END:VCALENDAR
