BEGIN:VCALENDAR
VERSION:2.0
PRODID:SchoolNow
CALSCALE:GREGORIAN
BEGIN:VEVENT
UID:8a2ccc02-1982-11f1-8856-0e2a2a433083
DTSTAMP:20260306T173307Z
SUMMARY:Hi-Tech Humanities: Communications\, From Confusion to Clarity
URL;VALUE=URI:https://www.ladelta.edu/campuses/monroe/calendar/8896297/hi-t
 ech-humanities-communications-from-confusion-to-clarity
DTSTART:20260408T173000Z
DTEND:20260408T183000Z
END:VEVENT
END:VCALENDAR
