BEGIN:VCALENDAR
VERSION:2.0
PRODID:SchoolNow
CALSCALE:GREGORIAN
BEGIN:VEVENT
UID:89184dcc-214e-11f1-845c-0a58a9feac02
DTSTAMP:20260316T154101Z
SUMMARY:Women's History Month Panel: LDCC Monroe
URL;VALUE=URI:https://www.ladelta.edu/campuses/monroe/calendar/8922824/wome
 ns-history-month-panel-ldcc-monroe
DTSTART:20260319T170000Z
DTEND:20260319T180000Z
END:VEVENT
END:VCALENDAR
