BEGIN:VCALENDAR
VERSION:2.0
PRODID:SchoolNow
CALSCALE:GREGORIAN
BEGIN:VEVENT
UID:165bedf0-2d08-11f1-8b36-0a58a9feac02
DTSTAMP:20260331T134658Z
SUMMARY:Data Center Contractor Fair at LDCC Monroe
URL;VALUE=URI:https://www.ladelta.edu/campuses/monroe/calendar/8960058/data
 -center-contractor-fair-at-ldcc-monroe
DTSTART:20260430T210000Z
DTEND:20260430T230000Z
END:VEVENT
END:VCALENDAR
