BEGIN:VCALENDAR
VERSION:2.0
PRODID:SchoolNow
CALSCALE:GREGORIAN
BEGIN:VEVENT
UID:13156970-3e72-11f1-928d-0a58a9feac02
DTSTAMP:20260422T173829Z
SUMMARY:Spring 2026 Graduation Ceremony
LOCATION:4099 Norheast Drive Monroe\, La 71203
URL;VALUE=URI:https://www.ladelta.edu/campuses/monroe/calendar/9011689/spri
 ng-2026-graduation-ceremony
DTSTART:20260518T230000Z
DTEND:20260519T010000Z
ATTACH;FILENAME=RSVP_SocialStory (1).png;FMTTYPE=image/png:https://campussu
 ite-storage.s3.amazonaws.com/prod/1558933/ecbeffe8-ef90-11e9-9d39-12ae0ad3
 20c0/3091793/f0891d34-3e71-11f1-ae50-02f090158227/file/RSVP_SocialStory (1
 ).png
END:VEVENT
END:VCALENDAR
