BEGIN:VCALENDAR
VERSION:2.0
PRODID:SchoolNow
CALSCALE:GREGORIAN
BEGIN:VEVENT
UID:98e2ec3a-3e7c-11f1-ae82-0ef52274c7f3
DTSTAMP:20260422T185348Z
SUMMARY:Graduation Rehearsal
LOCATION:4099 Northeast Drive Monroe\, LA 71203
URL;VALUE=URI:https://www.ladelta.edu/campuses/monroe/calendar/9011695/grad
 uation-rehearsal
DTSTART:20260518T210000Z
DTEND:20260518T220000Z
END:VEVENT
END:VCALENDAR
