BEGIN:VCALENDAR
VERSION:2.0
PRODID:SchoolNow
CALSCALE:GREGORIAN
BEGIN:VEVENT
UID:5b9f7910-e27d-11ec-841d-02f7a0dded9d
DTSTAMP:20220602T140737Z
SUMMARY:Ribbon Cutting - Ruston
URL;VALUE=URI:https://www.ladelta.edu/campuses/ruston/calendar/3210410/ribb
 on-cutting-ruston
DTSTART:20220609T180000Z
DTEND:20220609T190000Z
END:VEVENT
END:VCALENDAR
