BEGIN:VCALENDAR
VERSION:2.0
PRODID:SchoolNow
CALSCALE:GREGORIAN
BEGIN:VEVENT
UID:425f385c-e280-11ec-b13a-0e2f1d1149fd
DTSTAMP:20220602T142823Z
SUMMARY:PN Pinning Ceremony - Ruston
LOCATION:200 South Trenton Street\, Ruston\, LA
URL;VALUE=URI:https://www.ladelta.edu/campuses/ruston/calendar/3210595/pn-p
 inning-ceremony-ruston
DTSTART:20220812T230000Z
DTEND:20220813T000000Z
ATTACH;FILENAME=Invitation for Pinning Ceremony.png;FMTTYPE=image/png:https
 ://campussuite-storage.s3.amazonaws.com/prod/1558933/ecbeffe8-ef90-11e9-9d
 39-12ae0ad320c0/2427593/2ef51566-e280-11ec-8e0e-0e2f1d1149fd/file/Invitati
 on for Pinning Ceremony.png
END:VEVENT
END:VCALENDAR
