BEGIN:VCALENDAR
VERSION:2.0
PRODID:SchoolNow
CALSCALE:GREGORIAN
BEGIN:VEVENT
UID:43ac34e6-e283-11ec-991a-0aac5e4ed219
DTSTAMP:20220602T144954Z
SUMMARY:Orientation - Ruston
URL;VALUE=URI:https://www.ladelta.edu/campuses/ruston/calendar/3210608/orie
 ntation-ruston
DTSTART:20220719T140000Z
DTEND:20220719T170000Z
END:VEVENT
END:VCALENDAR
