BEGIN:VCALENDAR
VERSION:2.0
PRODID:SchoolNow
CALSCALE:GREGORIAN
BEGIN:VEVENT
UID:1b9d8eb2-2a0b-11ed-bcb9-0aee7f7386a9
DTSTAMP:20220901T153111Z
SUMMARY:Fall Fest - Ruston Campus
URL;VALUE=URI:https://www.ladelta.edu/campuses/ruston/calendar/3329042/fall
 -fest-ruston-campus
DTSTART:20221025T160000Z
DTEND:20221025T170000Z
END:VEVENT
END:VCALENDAR
