BEGIN:VCALENDAR
VERSION:2.0
PRODID:SchoolNow
CALSCALE:GREGORIAN
BEGIN:VEVENT
UID:37d82812-2a0b-11ed-b93f-0aee7f7386a9
DTSTAMP:20220901T153158Z
SUMMARY:Life Share Blood Drive - Ruston Campus
URL;VALUE=URI:https://www.ladelta.edu/campuses/ruston/calendar/3329043/life
 -share-blood-drive-ruston-campus
DTSTART:20220915T150000Z
DTEND:20220915T210000Z
END:VEVENT
END:VCALENDAR
