BEGIN:VCALENDAR
VERSION:2.0
PRODID:SchoolNow
CALSCALE:GREGORIAN
BEGIN:VEVENT
UID:9d6d7974-2a20-11ed-b2df-0a87059ad115
DTSTAMP:20220916T133810Z
SUMMARY:Miss Louisiana - Ruston Campus
URL;VALUE=URI:https://www.ladelta.edu/campuses/ruston/calendar/3329407/miss
 -louisiana-ruston-campus
DTSTART:20220922T140000Z
DTEND:20220922T150000Z
ATTACH;FILENAME=Miss Louisiana Visit.png;FMTTYPE=image/png:https://campussu
 ite-storage.s3.amazonaws.com/prod/1558933/ecbeffe8-ef90-11e9-9d39-12ae0ad3
 20c0/2477821/b694617e-35c4-11ed-94a2-0e3d4d398339/file/Miss Louisiana Visi
 t.png
END:VEVENT
END:VCALENDAR
