BEGIN:VCALENDAR
VERSION:2.0
PRODID:SchoolNow
CALSCALE:GREGORIAN
BEGIN:VEVENT
UID:c45460a2-35c4-11ed-a85c-0e3d4d398339
DTSTAMP:20221003T185844Z
SUMMARY:STEM Spooktacular - Ruston Campus
LOCATION:1010 James Street Ruston\, LA
URL;VALUE=URI:https://www.ladelta.edu/campuses/ruston/calendar/3401185/stem
 -spooktacular-ruston-campus
DTSTART:20221025T213000Z
DTEND:20221025T230000Z
ATTACH;FILENAME=STEM Spooktacular flyer.png;FMTTYPE=image/png:https://campu
 ssuite-storage.s3.amazonaws.com/prod/1558933/ecbeffe8-ef90-11e9-9d39-12ae0
 ad320c0/2486068/cb58326e-4340-11ed-9e84-0aef63c64c6d/file/STEM Spooktacula
 r flyer.png
END:VEVENT
END:VCALENDAR
