BEGIN:VCALENDAR
VERSION:2.0
PRODID:SchoolNow
CALSCALE:GREGORIAN
BEGIN:VEVENT
UID:36510c08-4341-11ed-a8bf-0aef63c64c6d
DTSTAMP:20221003T173128Z
SUMMARY:Hispanic Heritage Month Event
LOCATION:Ruston Campus
URL;VALUE=URI:https://www.ladelta.edu/campuses/ruston/calendar/3476683/hisp
 anic-heritage-month-event
DTSTART:20221010T130000Z
DTEND:20221010T150000Z
ATTACH;FILENAME=Spanish Heritage Month Flyer.png;FMTTYPE=image/png:https://
 campussuite-storage.s3.amazonaws.com/prod/1558933/ecbeffe8-ef90-11e9-9d39-
 12ae0ad320c0/2486069/264b19fc-4341-11ed-beff-0aef63c64c6d/file/Spanish Her
 itage Month Flyer.png
END:VEVENT
END:VCALENDAR
