BEGIN:VCALENDAR
VERSION:2.0
PRODID:SchoolNow
CALSCALE:GREGORIAN
BEGIN:VEVENT
UID:d30e7d64-4341-11ed-a4c5-0aef63c64c6d
DTSTAMP:20221003T173551Z
SUMMARY:Meet and Greet
LOCATION:Ruston Campus
URL;VALUE=URI:https://www.ladelta.edu/campuses/ruston/calendar/3476685/meet
 -and-greet
DTSTART:20221013T140000Z
DTEND:20221013T160000Z
ATTACH;FILENAME=Ruston Campus Employer Meet and Greet.png;FMTTYPE=image/png
 :https://campussuite-storage.s3.amazonaws.com/prod/1558933/ecbeffe8-ef90-1
 1e9-9d39-12ae0ad320c0/2486070/5eb2dab4-4341-11ed-ba0f-0aef63c64c6d/file/Ru
 ston Campus Employer Meet and Greet.png
END:VEVENT
END:VCALENDAR
