BEGIN:VCALENDAR
VERSION:2.0
PRODID:SchoolNow
CALSCALE:GREGORIAN
BEGIN:VEVENT
UID:69e33264-9c04-11ed-9c6b-0eacf9a6e0df
DTSTAMP:20230124T193620Z
SUMMARY:Black History Month Event - Ruston Campus
LOCATION:Ruston Campus
URL;VALUE=URI:https://www.ladelta.edu/campuses/ruston/calendar/3686838/blac
 k-history-month
DTSTART:20230208T150000Z
DTEND:20230208T160000Z
ATTACH;FILENAME=Black History Month Flyer.png;FMTTYPE=image/png:https://cam
 pussuite-storage.s3.amazonaws.com/prod/1558933/ecbeffe8-ef90-11e9-9d39-12a
 e0ad320c0/2540672/24aedc9a-9c02-11ed-82b6-0a0beeff7931/file/Black History 
 Month Flyer.png
END:VEVENT
END:VCALENDAR
