BEGIN:VCALENDAR
VERSION:2.0
PRODID:SchoolNow
CALSCALE:GREGORIAN
BEGIN:VEVENT
UID:ccdd9278-9c1e-11ed-af49-0e32beac629f
DTSTAMP:20230124T193921Z
SUMMARY:Spring Fling - Ruston and Jonesboro Campuses
LOCATION:Ruston and Jonesboro Campuses
URL;VALUE=URI:https://www.ladelta.edu/campuses/ruston/calendar/3687674/spri
 ng-fling-ruston-and-jonesboro-campuses
DTSTART:20230323T160000Z
DTEND:20230323T170000Z
ATTACH;FILENAME=Spring Fling flyer.png;FMTTYPE=image/png:https://campussuit
 e-storage.s3.amazonaws.com/prod/1558933/ecbeffe8-ef90-11e9-9d39-12ae0ad320
 c0/2540806/76d0aa82-9c1e-11ed-8ebd-0e32beac629f/file/Spring Fling flyer.pn
 g
END:VEVENT
END:VCALENDAR
