BEGIN:VCALENDAR
VERSION:2.0
PRODID:SchoolNow
CALSCALE:GREGORIAN
BEGIN:VEVENT
UID:5ad39bf4-9c1f-11ed-8b13-0e32beac629f
DTSTAMP:20230124T194620Z
SUMMARY:Stress Awareness and Stress Management Workshop - Ruston Campus
LOCATION:Ruston Campus
URL;VALUE=URI:https://www.ladelta.edu/campuses/ruston/calendar/3687675/stre
 ss-awareness-and-stress-management-workshop
DTSTART:20230301T150000Z
DTEND:20230301T154500Z
END:VEVENT
END:VCALENDAR
