BEGIN:VCALENDAR
VERSION:2.0
PRODID:SchoolNow
CALSCALE:GREGORIAN
BEGIN:VEVENT
UID:9a7581d2-9c1f-11ed-858e-0e32beac629f
DTSTAMP:20230124T195929Z
SUMMARY:Coffee and Conversation with the Chancellor - Ruston Campus
LOCATION:Ruston Campus
URL;VALUE=URI:https://www.ladelta.edu/campuses/ruston/calendar/3687676/coff
 ee-and-conversation-with-the-chancellor-ruston-campus
DTSTART:20230309T150000Z
DTEND:20230309T160000Z
END:VEVENT
END:VCALENDAR
