BEGIN:VCALENDAR
VERSION:2.0
PRODID:SchoolNow
CALSCALE:GREGORIAN
BEGIN:VEVENT
UID:1f859114-9c20-11ed-86cd-0e32beac629f
DTSTAMP:20230124T194850Z
SUMMARY:Resume and Cover Letter Writing Workshop - Ruston Campus
LOCATION:Ruston Campus
URL;VALUE=URI:https://www.ladelta.edu/campuses/ruston/calendar/3687677/resu
 me-and-cover-letter-writing-workshop-ruston-campus
DTSTART:20230328T133000Z
DTEND:20230328T143000Z
END:VEVENT
END:VCALENDAR
