BEGIN:VCALENDAR
VERSION:2.0
PRODID:SchoolNow
CALSCALE:GREGORIAN
BEGIN:VEVENT
UID:fa61741a-9c20-11ed-9032-0e32beac629f
DTSTAMP:20230124T195457Z
SUMMARY:QEP Visit - Ruston Campus
LOCATION:Ruston Campus
URL;VALUE=URI:https://www.ladelta.edu/campuses/ruston/calendar/3687679/qep-
 visit-ruston-campus
DTSTART:20230216T153000Z
DTEND:20230216T163000Z
END:VEVENT
END:VCALENDAR
