BEGIN:VCALENDAR
VERSION:2.0
PRODID:SchoolNow
CALSCALE:GREGORIAN
BEGIN:VEVENT
UID:0da1e1a8-2d5e-11ee-b3a9-0a58a9feac02
DTSTAMP:20230728T154727Z
SUMMARY:Welcome Back Week Event!
LOCATION:Front Atrium of the Ruston Campus!
URL;VALUE=URI:https://www.ladelta.edu/campuses/ruston/calendar/4529369/welc
 ome-back-week-event
DTSTART:20230814T130000Z
DTEND:20230814T150000Z
ATTACH;FILENAME=Flyer.png;FMTTYPE=image/png:https://campussuite-storage.s3.
 amazonaws.com/prod/1558933/ecbeffe8-ef90-11e9-9d39-12ae0ad320c0/2635877/f9
 51a774-2d5d-11ee-b1f1-0e6883f767cf/file/Flyer.png
END:VEVENT
END:VCALENDAR
