BEGIN:VCALENDAR
VERSION:2.0
PRODID:SchoolNow
CALSCALE:GREGORIAN
BEGIN:VEVENT
UID:57ad9cc4-2d5e-11ee-98bf-0e6883f767cf
DTSTAMP:20230728T154931Z
SUMMARY:Introduction to Student Services!
LOCATION:Ruston Campus
URL;VALUE=URI:https://www.ladelta.edu/campuses/ruston/calendar/4529370/intr
 oduction-to-student-services
DTSTART:20230907T140000Z
DTEND:20230907T150000Z
END:VEVENT
END:VCALENDAR
