BEGIN:VCALENDAR
VERSION:2.0
PRODID:SchoolNow
CALSCALE:GREGORIAN
BEGIN:VEVENT
UID:7daed33e-2d5e-11ee-ba8c-0a58a9feac02
DTSTAMP:20230728T155259Z
SUMMARY:Coping with Test Anxiety Workshop!
LOCATION:Ruston Campus
URL;VALUE=URI:https://www.ladelta.edu/campuses/ruston/calendar/4529371/copi
 ng-with-test-anxiety-workshop
DTSTART:20230914T140000Z
DTEND:20230914T144500Z
END:VEVENT
END:VCALENDAR
