BEGIN:VCALENDAR
VERSION:2.0
PRODID:SchoolNow
CALSCALE:GREGORIAN
BEGIN:VEVENT
UID:a2f02e54-2d5e-11ee-b1bf-02ef8f5c4d55
DTSTAMP:20230728T155137Z
SUMMARY:Hispanic Heritage Month Event!
LOCATION:Front Atrium of Ruston Campus
URL;VALUE=URI:https://www.ladelta.edu/campuses/ruston/calendar/4529372/hisp
 anic-heritage-month-event
DTSTART:20230921T160000Z
DTEND:20230921T170000Z
END:VEVENT
END:VCALENDAR
