BEGIN:VCALENDAR
VERSION:2.0
PRODID:SchoolNow
CALSCALE:GREGORIAN
BEGIN:VEVENT
UID:c9fe850e-2d5e-11ee-b40c-0a58a9feac02
DTSTAMP:20230728T155314Z
SUMMARY:Professionalism Workshop!
LOCATION:Ruston Campus
URL;VALUE=URI:https://www.ladelta.edu/campuses/ruston/calendar/4529373/prof
 essionalism-workshop
DTSTART:20230928T140000Z
DTEND:20230928T144500Z
END:VEVENT
END:VCALENDAR
