BEGIN:VCALENDAR
VERSION:2.0
PRODID:SchoolNow
CALSCALE:GREGORIAN
BEGIN:VEVENT
UID:207de1cc-2d5f-11ee-96b8-02ef8f5c4d55
DTSTAMP:20231005T164731Z
SUMMARY:Pop-Up Career Closet!
LOCATION:Ruston Campus
URL;VALUE=URI:https://www.ladelta.edu/campuses/ruston/calendar/4529374/pop-
 up-career-closet
DTSTART:20231012T140000Z
DTEND:20231012T160000Z
END:VEVENT
END:VCALENDAR
