BEGIN:VCALENDAR
VERSION:2.0
PRODID:SchoolNow
CALSCALE:GREGORIAN
BEGIN:VEVENT
UID:3e0bfbfc-2d5f-11ee-98bb-0e6883f767cf
DTSTAMP:20230728T155558Z
SUMMARY:Fall Fest!
LOCATION:Ruston Campus
URL;VALUE=URI:https://www.ladelta.edu/campuses/ruston/calendar/4529375/fall
 -fest
DTSTART:20231019T160000Z
DTEND:20231019T170000Z
END:VEVENT
END:VCALENDAR
