BEGIN:VCALENDAR
VERSION:2.0
PRODID:SchoolNow
CALSCALE:GREGORIAN
BEGIN:VEVENT
UID:ebd0fb7a-2d5f-11ee-bb2d-0a58a9feac02
DTSTAMP:20230728T160049Z
SUMMARY:Veterans Day Breakfast!
LOCATION:Front Atrium of Ruston Campus
URL;VALUE=URI:https://www.ladelta.edu/campuses/ruston/calendar/4529380/vete
 rans-day-breakfast
DTSTART:20231109T140000Z
DTEND:20231109T160000Z
END:VEVENT
END:VCALENDAR
