BEGIN:VCALENDAR
VERSION:2.0
PRODID:SchoolNow
CALSCALE:GREGORIAN
BEGIN:VEVENT
UID:10c90012-2d60-11ee-a530-0a58a9feac02
DTSTAMP:20230728T160151Z
SUMMARY:Fuel Up for Finals!
LOCATION:Front Atrium of Ruston Campus
URL;VALUE=URI:https://www.ladelta.edu/campuses/ruston/calendar/4529381/fuel
 -up-for-finals
DTSTART:20231127T140000Z
DTEND:20231127T160000Z
END:VEVENT
END:VCALENDAR
