BEGIN:VCALENDAR
VERSION:2.0
PRODID:SchoolNow
CALSCALE:GREGORIAN
BEGIN:VEVENT
UID:8e4131a2-71e6-11ee-97ed-0a58a9feac02
DTSTAMP:20231023T205553Z
SUMMARY:Halloween Party
URL;VALUE=URI:https://www.ladelta.edu/campuses/ruston/calendar/4893274/hall
 oween-party
DTSTART:20231031T160000Z
DTEND:20231031T170000Z
END:VEVENT
END:VCALENDAR
